Workbook

Sheet 1. mutu lulusan
A1: INSTRUMEN AKREDITASI SATUAN PENDIDIKAN (IASP) 2020
A2: KOMPONEN 1 : MUTU LULUSAN
A4: NO. BUTIR | B4: SUB KOMPONEN | C4: PERNYATAAN | D4: TEKNIK PENGUMPULAN DATA | E4: CAPAIAN KINERJA | F4: LEVEL | G4: OPSI | H4: SKOR | J4: Contreng dengan huruf V atau huruf v pada kolom opsi sesuai pilihan di antara empat alternatif level, sesuai dengan fakta yang ada
A5: 1 | B5: Karakter Siswa | C5: Siswa menunjukkan perilaku disiplin dalam berbagai situasi | D5: Observasi, Dokumen, Wawancara | E5: Siswa menunjukkan perilaku disiplin yang membudaya berdasarkan tata tertib Madrasah dan menerima pengakuan atas prestasi kedisiplinan. | F5: 4 | H5: =IF(G5="V",4,IF(G6="V",3,IF(G7="V",2,IF(G8="V",1,""))))
E6: Siswa menunjukkan perilaku disiplin berdasarkan tata tertib Madrasah dan menerima pengakuan atas prestasi kedisiplinan. | F6: 3
E7: Siswa menunjukkan perilaku disiplin berdasarkan tata tertib Madrasah namun terbatas di Madrasah. | F7: 2
E8: Siswa menunjukkan perilaku disiplin berdasarkan tata tertib Madrasah namun terbatas di kelas. | F8: 1
A9: 2 | B9: Karakter Siswa | C9: Siswa menunjukkan perilaku religius dalam aktivitas di Madrasah | D9: Observasi, Dokumen, Wawancara | E9: Siswa menunjukkan perilaku religius yang membudaya sesuai ajaran agama dan kepercayaan yang dianutnya dalam kehidupan sehari-hari di Madrasah. | F9: 4 | H9: =IF(G9="V",4,IF(G10="V",3,IF(G11="V",2,IF(G12="V",1,""))))
E10: Siswa menunjukkan perilaku religius sesuai ajaran agama dan kepercayaan yang dianutnya dalam kehidupan sehari-hari di Madrasah. | F10: 3
E11: Siswa belum konsisten menunjukkan perilaku religius sesuai ajaran agama dan kepercayaan yang dianutnya dalam kehidupan sehari-hari di Madrasah. | F11: 2 | J11: WARNING! JANGAN GANGGU KOLOM H
E12: Siswa berperilaku religius karena mematuhi tatib Madrasah. | F12: 1
A13: 3 | B13: Karakter Siswa | C13: Siswa menunjukkan perilaku tangguh, dan bertanggung jawab dalam aktivitas di Madrasah | D13: Dokumen, Wawancara | E13: Siswa menunjukkan perilaku kerja keras, tangguh, dan bertanggung jawab yang membudaya dalam aktivitas sehari-hari di Madrasah. | F13: 4 | H13: =IF(G13="V",4,IF(G14="V",3,IF(G15="V",2,IF(G16="V",1,""))))
E14: Siswa menunjukkan perilaku kerja keras, tangguh, dan bertanggung jawab dalam pembelajaran di kelas. | F14: 3
E15: Siswa belum konsisten menunjukkan perilaku kerja keras, tangguh, dan bertanggung jawab dalam pembelajaran di kelas. | F15: 2
E16: Siswa belum menunjukkan perilaku kerja keras, tangguh, dan bertanggung jawab. | F16: 1
A17: 4 | B17: Karakter Siswa | C17: Siswa terbebas dari perundungan (bully) di Madrasah | D17: Dokumen, Wawancara, Angket | E17: Siswa membudayakan praktik bebas dari perundungan dan berperan aktif dalam program pencegahan perundungan di Madrasah. | F17: 4 | H17: =IF(G17="V",4,IF(G18="V",3,IF(G19="V",2,IF(G20="V",1,""))))
E18: Siswa bebas dari praktik perundungan di Madrasah. | F18: 3
E19: Siswa melakukan/mengalami perundungan meskipun Madrasah telah melakukan upaya pencegahan. | F19: 2
E20: Siswa melakukan/mengalami perundungan namun Madrasah tidak melakukan upaya pencegahan. | F20: 1
A21: 5 | B21: Kompetensi Siswa | C21: Siswa menunjukkan keterampilan berkomunikasi sesuai karakteristik keterampilan abad ke-21 | D21: Observasi, Dokumen, Wawancara | E21: Siswa telah menunjukkan budaya berkomunikasi yang efektif dan beretika secara lisan dan tulisan melalui berbagai media yang memanfaatkan TIK di dalam dan di luar Madrasah. | F21: 4 | H21: =IF(G21="V",4,IF(G22="V",3,IF(G23="V",2,IF(G24="V",1,""))))
E22: Siswa telah menunjukkan keterampilan berkomunikasi yang efektif dan beretika secara lisan dan tulisan melalui berbagai media yang memanfaatkan TIK di dalam dan di luar Madrasah. | F22: 3
E23: Siswa telah menunjukkan keterampilan berkomunikasi yang efektif dan beretika secara lisan dan tulisan dengan media tertentu di dalam dan di luar Madrasah. | F23: 2
E24: Siswa telah menunjukkan keterampilan berkomunikasi yang efektif dan beretika secara lisan dan tulisan dengan media tertentu di dalam Madrasah. | F24: 1
A25: 6 | B25: Kompetensi Siswa | C25: Siswa menunjukkan keterampilan berkolaborasi sesuai karakteristik keterampilan abad ke-21 | D25: Observasi, Dokumen, Wawancara | E25: Siswa telah menunjukkan budaya berkolaborasi yang terprogram dengan GTK, atau siswa lainnya dalam bentuk kegiatan pembelajaran dan ekskul serta penggunaan sumber daya belajar | F25: 4 | H25: =IF(G25="V",4,IF(G26="V",3,IF(G27="V",2,IF(G28="V",1,""))))
E26: Siswa telah menunjukkan budaya berkolaborasi dengan GTK, atau siswa lainnya dalam bentuk kegiatan pembelajaran dan ekstrakurikuler serta penggunaan sumber daya belajar | F26: 3
E27: Siswa telah menunjukkan budaya berkolaborasi yang terprogram dengan GTK, atau siswa lainnya dalam bentuk kegiatan pembelajaran dan ekstrakurikuler secara terbatas. | F27: 4
E28: Siswa telah menunjukkan budaya berkolaborasi yang terprogram dengan GTK, atau siswa lainnya dalam bentuk kegiatan pembelajaran secara terbatas. | F28: 5
A29: 7 | B29: Kompetensi Siswa | C29: Siswa menunjukkan keterampilan berpikir kritis dan pemecahan masalah sesuai karakteristik abad ke-21 | D29: Observasi, Dokumen, Wawancara | E29: Siswa menunjukkan budaya berpikir kritis dan pemecahan masalah secara konsisten dan sistematis yang ditunjukkan melalui proses pembelajaran dan hasil karya siswa baik lisan / tulisan. | F29: 4 | H29: =IF(G29="V",4,IF(G30="V",3,IF(G31="V",2,IF(G32="V",1,""))))
E30: Siswa menunjukkan keterampilan berpikir kritis dan pemecahan masalah yang ditunjukkan melalui proses pembelajaran dan hasil karya siswa baik lisan / tulisan. | F30: 3
E31: Siswa menunjukkan keterampilan berpikir kritis dan pemecahan masalah yang ditunjukkan melalui proses pembelajaran dan hasil karya siswa baik lisan / tulisan yang dilakukan secara terbatas. | F31: 2
E32: Siswa menunjukkan keterampilan berpikir kritis dan pemecahan masalah yang ditunjukkan melalui proses pembelajaran dan hasil karya siswa secara lisan. | F32: 1
A33: 8 | B33: Kompetensi Siswa | C33: Siswa menunjukkan keterampilan kreativitas dan inovasi sesuai karakteristik keterampilan abad ke-21Siswa menunjukkan keterampilan kreativitas dan inovasi sesuai karakteristik keterampilan abad ke-21 | D33: Observasi, Dokumen, Wawancara | E33: Siswa menunjukkan budaya kreatif dan inovatif secara konsisten yang ditunjukkan melalui proses pembelajaran dan hasil karya siswa dalam bentuk lisan, tulisan, dan/atau karya lainnya melalui kegiatan pembelajaran dan ekskul di dalam dan di luar Madrasah. | F33: 4 | H33: =IF(G33="V",4,IF(G34="V",3,IF(G35="V",2,IF(G36="V",1,""))))
E34: Siswa menunjukkan keterampilan kreatif dan inovatif yang ditunjukkan melalui proses pembelajaran dan hasil karya siswa dalam bentuk lisan, tulisan, dan/atau karya lainnya melalui kegiatan pembelajaran dan ekstrakurikuler di dalam dan di luar Madrasah. | F34: 3
E35: Siswa menunjukkan keterampilan kreatif dan inovatif yang ditunjukkan melalui proses pembelajaran dan hasil karya siswa dalam bentuk lisan, tulisan, dan/atau karya lainnya melalui kegiatan pembelajaran dan ekstrakurikuler di dalam Madrasah. | F35: 2
E36: Siswa menunjukkan keterampilan kreatif dan inovatif yang ditunjukkan melalui proses pembelajaran dan hasil karya siswa dalam bentuk lisan, tulisan, dan/atau karya lainnya dalam pembelajaran di kelas. | F36: 1
A37: 9 | B37: Kompetensi Siswa | C37: Siswa menunjukkan kemampuan mengekspresikan diri dan berkreasi dalam kegiatan pengembangan minat dan bakat | D37: Dokumen, Wawancara | E37: Siswa berpartisipasi dan berprestasi dalam berbagai kegiatan pengembangan minat dan bakat yang dibuktikan dengan perolehan berbagai prestasi/penghargaan tingkat lokal, nasional maupun internasional. | F37: 4 | H37: =IF(G37="V",4,IF(G38="V",3,IF(G39="V",2,IF(G40="V",1,""))))
E38: Siswa berpartisipasi dan berprestasi dalam berbagai kegiatan pengembangan minat dan bakat yang dibuktikan dengan perolehan berbagai prestasi/penghargaan tingkat lokal. | F38: 3
E39: Siswa berpartisipasi dalam berbagai kegiatan pengembangan minat dan bakat di tingkat lokal. | F39: 2
E40: Siswa berpartisipasi dalam berbagai kegiatan pengembangan minat dan bakat di tingkat Madrasah. | F40: 1
A41: 10 | B41: Kompetensi Siswa | C41: Siswa menunjukkan peningkatan prestasi belajar | D41: Dokumen, Wawancara | E41: Siswa memiliki rata-rata nilai ujian Madrasah dan rapor kelas akhir yang meningkat secara konsisten dalam 3 (tiga) tahun terakhir dan berdampak pada persepsi positif masyarakat terhadap Madrasah. | F41: 4 | H41: =IF(G41="V",4,IF(G42="V",3,IF(G43="V",2,IF(G44="V",1,""))))
E42: Siswa memiliki rata-rata nilai ujian Madrasah dan rapor kelas akhir yang meningkat dalam 3 (tiga) tahun terakhir. | F42: 3
E43: Siswa memiliki rata-rata nilai ujian Madrasah dan rapor kelas akhir yang fluktuatif (naik-turun) dalam 3 (tiga) tahun terakhir. | F43: 2
E44: Siswa memiliki rata-rata nilai ujian Madrasah dan rapor kelas akhir yang tidak meningkat dalam 3 (tiga) tahun terakhir. | F44: 1
A45: 11 | B45: Kepuasan Stake Holder | C45: Pemangku kepentingan (stakeholders) puas terhadap mutu lulusan Madrasah | D45: Dokumen, Wawancara | E45: Stakeholder menyatakan sangat puas terhadap mutu lulusan Madrasah terkait sikap, pengetahuan, dan keterampilan mereka. | F45: 4 | H45: =IF(G45="V",4,IF(G46="V",3,IF(G47="V",2,IF(G48="V",1,""))))
E46: Stakeholder menyatakan puas terhadap mutu lulusan Madrasah terkait sikap, pengetahuan, dan keterampilan mereka. | F46: 3
E47: Stakeholder menyatakan kurang puas terhadap mutu lulusan Madrasah terkait sikap, pengetahuan, dan keterampilan mereka. | F47: 2
E48: Stakeholder menyatakan tidak puas terhadap mutu lulusan Madrasah terkait sikap, pengetahuan, dan keterampilan mereka. | F48: 1
A49: PEROLEHAN SKOR UNTUK KOMPONEN MUTU LULUSAN | H49: =SUM(H5:H48) -> 0

Sheet 2. proses pembelajaran
A1: INSTRUMEN AKREDITASI SATUAN PENDIDIKAN (IASP) 2020
A2: KOMPONEN 2 : PROSES PEMBELAJARAN
A4: NO. BUTIR | B4: SUB KOMPONEN | C4: PERNYATAAN | D4: TEKNIK PENGUMPULAN DATA | E4: CAPAIAN KINERJA | F4: LEVEL | G4: OPSI | H4: SKOR | J4: Contreng dengan huruf V atau huruf v pada kolom opsi sesuai pilihan di antara empat alternatif level, sesuai dengan fakta yang ada
A5: 12 | B5: Kualitas Pembelajaran di Kelas dan di uar Kelas | C5: Proses pembelajaran berlangsung secara aktif dengan melibatkan seluruh siswa dan mengembangkan keterampilan berpikir tingkat tinggi sehingga terjadi proses pembelajaran yang efektif sesuai dengan tujuan pembelajaran pada satuan Pendidikan | D5: Observasi, Dokumen, Wawancara | E5: Dalam proses pembelajaran siswa diberi kesempatan untuk belajar secara aktif (membaca, bertanya, berdiskusi, praktik, atau menggunakan media), melibatkan keterampilan berpikir tingkat tinggi, dilaksanakan melalui pengalaman yang konkret, dan menyajikan materi yang lebih bermakna bagi kehidupan siswa serta berdampak pada pemecahan masalah kehidupan sehari-hari. | F5: 4 | H5: =IF(G5="V",4,IF(G6="V",3,IF(G7="V",2,IF(G8="V",1,""))))
E6: Dalam proses pembelajaran siswa diberi kesempatan untuk belajar secara aktif (membaca, bertanya, berdiskusi, praktik, atau menggunakan media), dilaksanakan melalui pengalaman yang konkret, dan menyajikan materi yang lebih bermakna bagi kehidupan siswa. | F6: 3
E7: Dalam proses pembelajaran siswa diberi kesempatan untuk belajar secara aktif (membaca, bertanya, berdiskusi, praktik, atau menggunakan media). | F7: 2
E8: Dalam pembelajaran guru lebih banyak menjelaskan dan siswa memperhatikan serta mengerjakan tugas yang diberikan saja. | F8: 1
A9: 13 | B9: Kualitas Pembelajaran di Kelas dan di uar Kelas | C9: Penilaian proses dan hasil belajar digunakan sebagai dasar untuk perbaikan dan dilaksanakan secara sistemis | D9: Observasi, Dokumen, Wawancara | E9: Guru melakukan penilaian proses dan hasil belajar dengan menggunakan berbagai teknik penilaian untuk mengetahui pencapaian tujuan pembelajaran secara sistemis dan berkesinambungan yang berdampak pada perbaikan proses pembelajaran dan hasil belajar siswa. | F9: 4 | H9: =IF(G9="V",4,IF(G10="V",3,IF(G11="V",2,IF(G12="V",1,""))))
E10: Guru melakukan penilaian proses dan hasil belajar dengan menggunakan berbagai teknik penilaian untuk mengetahui pencapaian tujuan pembelajaran secara berkesinambungan. | F10: 3 | J10: WARNING! JANGAN GANGGU KOLOM H
E11: Guru melakukan penilaian proses dan hasil belajar sesuai tujuan pembelajaran namun belum digunakan untuk perbaikan pembelajaran. | F11: 2
E12: Guru melakukan penilaian proses dan hasil belajar tanpa memperhatikan tujuan pembelajaran. | F12: 1
A13: 14 | B13: Kualitas Pembelajaran di Kelas dan di uar Kelas | C13: Program remedial dan/atau pengayaan diberikan kepada siswa yang memerlukan | D13: Dokumen, Wawancara | E13: Guru melaksanakan program remedial dan/atau pengayaan (sesuai kebutuhan) secara sistematis, terstruktur, dan berkelanjutan dengan menggunakan berbagai strategi dan berpengaruh terhadap peningkatan hasil belajar siswa. | F13: 4 | H13: =IF(G13="V",4,IF(G14="V",3,IF(G15="V",2,IF(G16="V",1,""))))
E14: Guru melaksanakan program remedial dan/atau pengayaan (sesuai kebutuhan) secara sistematis dan terstruktur dengan menggunakan berbagai strategi dan berpengaruh terhadap peningkatan hasil belajar siswa. | F14: 3
E15: Guru melaksanakan program remedial atau pengayaan (sesuai kebutuhan) secara sistematis dan terstruktur dengan menggunakan berbagai strategi dan berpengaruh terhadap peningkatan hasil belajar siswa secara terbatas pada beberapa mata pelajaran. | F15: 2
E16: Guru melaksanakan program remedial atau pengayaan terbatas pada pemberian tes dan/atau pekerjaan rumah (PR). | F16: 1
A17: 15 | B17: Kualitas Pembelajaran di Kelas dan di uar Kelas | C17: Siswa berpartisipasi aktif dalam belajar dan suasana pembelajaran di kelas menyenangkan | D17: Observasi, Wawancara Asesor masuk kelas | E17: Suasana pembelajaran yang dinamis dengan adanya interaksi antarsiswa, interaksi siswa dengan guru, siswa yang antusias dalam belajar dan suasana kelas yang menyenangkan dan menarik sehingga berdampak pada pencapaian tujuan pembelajaran. | F17: 4 | H17: =IF(G17="V",4,IF(G18="V",3,IF(G19="V",2,IF(G20="V",1,""))))
E18: Suasana pembelajaran yang dinamis dengan adanya interaksi antarsiswa, interaksi siswa dengan guru, siswa yang antusias dalam belajar dan suasana kelas yang menyenangkan dan menarik. | F18: 3
E19: Suasana kelas tertib dan terlihat ada interaksi timbal balik antar siswa dengan siswa dan siswa dengan guru. | F19: 2
E20: Suasana kelas tertib walaupun penyampaian materi berlangsung satu arah dari guru ke siswa. | F20: 1
A21: 16 | B21: Kualitas Pembelajaran di Kelas dan di uar Kelas | C21: Guru melakukan pembiasaan literasi membaca dan menulis | D21: Observasi, Dokumen, Wawancara | E21: Guru melakukan pembiasaan literasi membaca dan menulis di sekolah/madrasah yang berdampak pada: (1) terbentuknya budaya membaca dan menulis di luar kelas, (2) menghasilkan karya-karya literasi seperti majalah dinding, cerpen, dan karya tulis lainnya, (3) terpublikasinya karya literasi siswa di masyarakat. | F21: 4 | H21: =IF(G21="V",4,IF(G22="V",3,IF(G23="V",2,IF(G24="V",1,""))))
E22: Guru melakukan pembiasaan literasi membaca dan menulis di sekolah/madrasah yang berdampak pada: (1) terbentuknya budaya membaca dan menulis di luar kelas (2) menghasilkan karya-karya literasi seperti majalah dinding, cerpen, dan karya tulis lainnya. | F22: 3
E23: Guru melakukan pembiasaan membaca, menulis, berkomunikasi, berlatih, atau berkarya tetapi belum berdampak pada kebiasaan yang dilakukan oleh siswa di luar kelas. | F23: 2
E24: Guru belum melakukan pembiasaan membaca, menulis, berkomunikasi, berlatih, atau berkarya secara terprogram. | F24: 1
A25: 17 | B25: Iklim Belajar di Kelas | C25: Guru menciptakan suasana belajar yang memperhatikan keamanan, kenyamanan, kebersihan, dan memudahkan siswa untuk belajar | D25: Observasi, Wawancara Asesor masuk kelas | E25: Guru mengimplementasikan prosedur pembelajaran yang melibatkan siswa dalam menjaga keamanan, kenyamanan, kebersihan, dan kemudahan secara fisik maupun psikis dalam belajar siswa dengan membangun hubungan baik antarsiswa dan antara siswa dan guru yang saling menghormati dan menghargai sehingga tercapai tujuan pembelajaran. | F25: 4 | H25: =IF(G25="V",4,IF(G26="V",3,IF(G27="V",2,IF(G28="V",1,""))))
E26: Guru mengimplementasikan prosedur pembelajaran yang memperhatikan keamanan, kenyamanan, kebersihan, dan kemudahan secara fisik maupun psikis dalam belajar siswa dengan membangun hubungan baik antarsiswa dan antara siswa dan guru yang saling menghormati dan menghargai sehingga tercapai tujuan pembelajaran. | F26: 3
E27: Guru belum secara optimal mengimplementasikan prosedur pembelajaran yang memperhatikan keamanan, kenyamanan, kebersihan, dan kemudahan secara fisik maupun psikis dalam belajar siswa. | F27: 4
E28: Guru tidak mengimplementasikan prosedur pembelajaran yang memperhatikan keamanan, kenyamanan, kebersihan, dan kemudahan secara fisik maupun psikis untuk dapat diakses siswa dalam belajar. | F28: 5
A29: 18 | B29: Pemanfaatan Sarpras Penunjang Proses Pembelajaran | C29: Sarana dan prasarana yang tersedia di Madrasah dimanfaatkan dengan optimal dalam proses pembelajaran | D29: Observasi, Dokumen, Wawancara | E29: Proses pembelajaran memanfaatkan sarana dan prasarana yang ada di dalam dan di luar Madrasah baik yang tersedia maupun kreasi guru/siswa sebagai media dan sumber belajar yang berdampak terhadap peningkatan mutu pembelajaran dan capaian hasil belajar siswa. | F29: 4 | H29: =IF(G29="V",4,IF(G30="V",3,IF(G31="V",2,IF(G32="V",1,""))))
E30: Proses pembelajaran memanfaatkan sarana dan prasarana yang ada di dalam dan di luar Madrasah yang berdampak terhadap peningkatan mutu pembelajaran dan capaian hasil belajar siswa. | F30: 3
E31: Proses pembelajaran memanfaatkan sarana dan prasarana sebagai media dan sumber belajar yang terbatas, baik jumlah maupun jenisnya sehingga belum berdampak terhadap mutu proses pembelajaran. | F31: 2
E32: Proses pembelajaran belum semuanya memanfaatkan sarana dan prasarana sebagai media dan sumber belajar. | F32: 1
A33: PEROLEHAN SKOR UNTUK KOMPONENPROSES PEMBELAJARAN | H33: =SUM(H5:H32) -> 0

Sheet 3. mutu guru
A1: INSTRUMEN AKREDITASI SATUAN PENDIDIKAN (IASP) 2020
A2: KOMPONEN 3 : MUTU GURU
A4: NO. BUTIR | B4: SUB KOMPONEN | C4: PERNYATAAN | D4: TEKNIK PENGUMPULAN DATA | E4: CAPAIAN KINERJA | F4: LEVEL | G4: OPSI | H4: SKOR | J4: Contreng dengan huruf V atau huruf v pada kolom opsi sesuai pilihan di antara empat alternatif level, sesuai dengan fakta yang ada
A5: 19 | B5: Kompetensi Guru | C5: Guru menyusun perencanaan pembelajaran aktif, kreatif, dan inovatif dengan mengoptimalkan lingkungan dan memanfaatkan TIK atau cara lain yang sesuai dengan konteksnya | D5: Dokumen, Wawancara | E5: Guru mampu: (1) menyusun RPP yang memfasilitasi seluruh siswa belajar aktif, inovatif, kreatif, efektif, dan menyenangkan seperti: merancang penelitian sederhana, melakukan tugas proyek tertentu berdasarkan ide-ide siswa sendiri dan mengoptimalkan lingkungan sekitar sebagai sumber belajar serta memanfaatkan TIK atau cara lain yang sesuai dengan konteksnya, (2) menjelaskan tahapan penyusunan RPP yang dibuatnya dengan memperhatikan hasil refleksi/evaluasi proses pembelajaran sebelumnya. | F5: 4 | H5: =IF(G5="V",4,IF(G6="V",3,IF(G7="V",2,IF(G8="V",1,""))))
E6: Guru mampu: (1) menyusun RPP yang memfasilitasi seluruh siswa belajar aktif, inovatif, kreatif, efektif, dan menyenangkan, yang dapat dilihat dari aktivitas KBM yang menempatkan siswa sebagai subyek dalam kegiatan pembelajaran dengan mengoptimalkan pemanfaatan lingkungan sebagai sumber belajar, (2) menjelaskan tahapan penyusunan RPP yang dibuat berdasarkan ketentuan yang berlaku. | F6: 3
E7: Guru: (1) menyusun RPP yang memfasilitasi seluruh siswa belajar aktif, kreatif dan inovatif yang dapat dilihat dari aktivitas kegiatan belajar mengajar (KBM) yang menempatkan siswa sebagai subyek dalam kegiatan pembelajaran, (2) kurang sistematis dalam menjelaskan tahapan penyusunan RPP yang dibuatnya. | F7: 2
E8: Guru menyusun RPP yang belum memfasilitasi seluruh siswa belajar aktif, kreatif, dan inovatif. | F8: 1
A9: 20 | B9: Kompetensi Guru | C9: Guru melakukan evaluasi diri, refleksi dan pengembangan kompetensi untuk perbaikan kinerja secara berkala | D9: Dokumen, Wawancara | E9: Guru melakukan evaluasi dan refleksi diri melalui berbagai kegiatan seperti observasi kelas dan pemberian kuesioner tentang pelaksanaan pembelajaran, rekaman audio atau video, dan hasilnya didiskusikan serta diseminasikan ke teman sejawat yang difasilitasi Madrasah untuk perbaikan kinerja secara berkelanjutan yang terlihat pada perbaikan mutu pembelajaran dan capaian hasil belajar siswa. | F9: 4 | H9: =IF(G9="V",4,IF(G10="V",3,IF(G11="V",2,IF(G12="V",1,""))))
E10: Guru melakukan perbaikan kinerja khususnya pembelajaran dalam pengembangan kompetensi secara berkelanjutan setelah melakukan refleksi dan evaluasi diri dengan membuat jurnal reflektif dan catatan harian. | F10: 3 | J10: WARNING! JANGAN GANGGU KOLOM H
E11: Guru sudah melakukan refleksi dan evaluasi diri untuk perbaikan kinerja dengan membuat catatan mengajar. | F11: 2
E12: Guru tidak melakukan atau masih memerlukan bantuan dalam melaksanakan refleksi dan evaluasi diri. | F12: 1
A13: 21 | B13: Pengembangan Profesi Guru | C13: Guru melakukan PKB untuk meningkatkan pengetahuan, keterampilan, dan wawasan | D13: Dokumen, Wawancara | E13: Guru melakukan PKB atas inisiatif sendiri yang hasilnya berdampak terhadap peningkatan mutu pembelajaran dan capaian belajar siswa yang dilakukan melalui beragam bentuk kegiatan belajar melalui diskusi antarteman sejawat, KKG/MGMP atau sejenisnya, belajar daring, mengikuti diklat/seminar, publikasi ilmiah, karya inovatif dan membagikan praktik baik kepada orang lain di dalam dan di luar Madrasah baik secara lisan maupun tulisan melalui berbagai media. | F13: 4 | H13: =IF(G13="V",4,IF(G14="V",3,IF(G15="V",2,IF(G16="V",1,""))))
E14: Guru melakukan PKB atas inisiatif sendiri yang hasilnya berdampak terhadap peningkatan mutu pembelajaran dan capaian belajar siswa yang dilakukan melalui beragam bentuk kegiatan belajar melalui diskusi antarteman sejawat, KKG/MGMP atau sejenisnya, belajar daring, mengikuti diklat/seminar, publikasi ilmiah, karya inovatif dan membagikan praktik baik kepada teman sejawat di Madrasah. | F14: 3
E15: Guru melakukan PKB atas anjuran/himbauan yang hasilnya berdampak terhadap peningkatan mutu pembelajaran dan capaian belajar siswa yang dilakukan melalui beragam bentuk kegiatan belajar melalui diskusi antarteman sejawat, KKG/MGMP atau sejenisnya, belajar daring, mengikuti diklat/seminar, publikasi ilmiah, karya inovatif. | F15: 2
E16: Guru melakukan pengembangan profesi berdasarkan inisiatif Madrasah yang hasilnya belum berdampak terhadap peningkatan mutu pembelajaran dan capaian belajar siswa dalam bentuk kegiatan yang masih terbatas dan hasilnya belum dibagikan kepada orang lain. | F16: 1
A17: 22 | B17: Inovasi dan Kreatifitas Guru | C17: Guru mengembangkan strategi, model, metode, teknik dan media pembelajaran yang inovatif dan kreatif | D17: Dokumen, ObservasiWawancara | E17: Guru mengembangkan/memodifikasi strategi, model, metode, teknik, dan media pembelajaran inovatif dan kreatif yang dapat mendorong siswa belajar secara aktif, efektif dan menyenangkan sesuai dengan tujuan pembelajaran serta menginspirasi teman sejawat dan/atau dapat diduplikasi oleh orang lain. | F17: 4 | H17: =IF(G17="V",4,IF(G18="V",3,IF(G19="V",2,IF(G20="V",1,""))))
E18: Guru mengembangkan/memodifikasi strategi, model, metode, teknik, dan media pembelajaran inovatif dan kreatif yang dapat mendorong siswa belajar secara aktif, efektif dan menyenangkan sesuai dengan tujuan pembelajaran. | F18: 3
E19: Guru mengembangkan/memodifikasi strategi, model, metode, teknik, dan media pembelajaran yang dapat mendorong siswa belajar secara aktif, dan menyenangkan tanpa adanya kaitan langsung dengan tujuan pembelajaran. | F19: 2
E20: Guru mengembangkan/memodifikasi strategi, model, metode, teknik, dan media pembelajaran yang tidak mendorong tercapainya tujuan pembelajaran. | F20: 1
A21: 36 | B21: Kompetensi Guru | C21: Guru mengembangkan perangkat pembelajaran tematik terpaduGuru mengembangkan perangkat pembelajaran tematik terpadu | D21: Dokumen, Wawancara | E21: Guru mampu mengembangkan perangkat pembelajaran tematik terpadu yang menunjukkan adanya keterkaitan kompetensi dasar dan indikator dari beberapa mata pelajaran untuk setiap tema yang didukung oleh pemilihan strategi pembelajaran yang relevan, penggunaan media yang tepat, pemanfaatan lingkungan sebagai sumber belajar dan penilaian autentik agar pembelajaran mencapai keterampilan siswa berpikir tingkat tinggi yang dilakukan secara konsisten dan sistematis | F21: 4 | H21: =IF(G21="V",4,IF(G22="V",3,IF(G23="V",2,IF(G24="V",1,""))))
E22: Guru mampu mengembangkan perangkat pembelajaran tematik terpadu yang menunjukkan adanya keterkaitan kompetensi dasar dan indikator dari beberapa mata pelajaran untuk setiap tema yang didukung oleh pemilihan strategi pembelajaran yang relevan, penggunaan media yang tepat, pemanfaatan lingkungan sebagai sumber belajar dan penilaian autentik agar pembelajaran mencapai keterampilan siswa berpikir tingkat tinggi | F22: 3
E23: Guru mampu mengembangkan perangkat pembelajaran tematik terpadu yang menunjukkan adanya keterkaitan kompetensi dasar dan indikator dari beberapa mata pelajaran untuk setiap tema yang didukung oleh pemilihan strategi pembelajaran yang relevan, penggunaan media yang tepat, pemanfaatan lingkungan sebagai sumber belajar dan penilaian autentik. | F23: 2
E24: Guru mengembangkan perangkat pembelajaran tematik terpadu berdasarkan materi pada buku guru yang disiapkan Kemendikbud. | F24: 1
A25: PEROLEHAN SKOR UNTUK KOMPONENPROSES PEMBELAJARAN | H25: =SUM(H5:H24) -> 0

Sheet 4. manajemen
A1: INSTRUMEN AKREDITASI SATUAN PENDIDIKAN (IASP) 2020
A2: KOMPONEN 4 : MANAJEMEN MADRASAH
A4: NO. BUTIR | B4: SUB KOMPONEN | C4: PERNYATAAN | D4: TEKNIK PENGUMPULAN DATA | E4: CAPAIAN KINERJA | F4: LEVEL | G4: OPSI | H4: SKOR | J4: Contreng dengan huruf V atau huruf v pada kolom opsi sesuai pilihan di antara empat alternatif level, sesuai dengan fakta yang ada
A5: 23 | B5: Pencapaian Visi Misi | C5: Madrasah mengembangkan, menyosialisasikan, mengimplementasikan, dan mengevaluasi visi, misi, dan tujuan Madrasah | D5: Observasi, Dokumen, Wawancara | E5: Madrasah mengembangkan, menyosialisasikan, mengimplementasikan dan mengevaluasi visi, misi, dan tujuan yang melibatkan pemangku kepentingan dan hasil evaluasi dipergunakan untuk perbaikan dan peningkatan mutu Madrasah secara berkelanjutan. | F5: 4 | H5: =IF(G5="V",4,IF(G6="V",3,IF(G7="V",2,IF(G8="V",1,""))))
E6: Madrasah mengembangkan, menyosialisasikan, mengimplementasikan dan mengevaluasi visi, misi, dan tujuan yang melibatkan pemangku kepentingan serta menjadikannya sebagai dasar/acuan dalam penyusunan dan pelaksanaan rencana kerja Madrasah. | F6: 3
E7: Madrasah mengembangkan, menyosialisasikan dan mengimplementasikan visi, misi, dan tujuan sebagai dasar/acuan dalam penyusunan dan pelaksanaan rencana kerja Madrasah. | F7: 2
E8: Madrasah mengembangkan, menyosialisasikan tetapi belum mengimplementasikan visi, misi, dan tujuan serta belum menjadikannya sebagai dasar/acuan dalam penyusunan dan pelaksanaan rencana kerja Madrasah. | F8: 1
A9: 24 | B9: Kompetensi Kepala Madrasah | C9: Kepala Madrasah menunjukkan kompetensi supervisi akademik untuk membantu guru mewujud-kan pembelajaran yang bermutu | D9: Dokumen, Wawancara | E9: Kepala Madrasah merencanakan, melaksanakan, mengevaluasi dan melakukan tindak lanjut atas hasil supervisi akademik kepada guru secara berkelanjutan dan berdampak signifikan terhadap peningkatan kinerja guru serta pembelajaran yang bermutu. | F9: 4 | H9: =IF(G9="V",4,IF(G10="V",3,IF(G11="V",2,IF(G12="V",1,""))))
E10: Kepala Madrasah merencanakan, melaksanakan, mengevaluasi dan melakukan tindak lanjut atas hasil supervisi akademik kepada guru secara berkelanjutan. | F10: 3 | J10: WARNING! JANGAN GANGGU KOLOM H
E11: Kepala Madrasah melakukan perencanaan, pelaksanaan, evaluasi dan tindak lanjut atas hasil supervisi akademik kepada guru namun belum dilakukan secara rutin dan berkelanjutan. | F11: 2
E12: Kepala Madrasah merencanakan dan melaksanakan supervisi akademik namun tidak melakukan tindak lanjut. | F12: 1
A13: 25 | B13: Kepemimpinan Kepala Madrasah | C13: Kepala Madrasah secara konsisten, partisipatif, kolaboratif, transformatif, dan efektif memimpin guru, tenaga kependidikan, dan siswa untuk mengembangkan ide-ide kreatif dan inovatif dalam usaha pengem-bangan kegiatan/program Madrasah untuk mencapai visi, misi, dan tujuan yang telah ditetapkan | D13: Dokumen, Wawancara | E13: Kepala Madrasah memimpin guru, tenaga kependidikan, dan siswa untuk mengembangkan ide-ide kreatif dan inovatif yang dituangkan dalam RKM/RKAM yang dalam penyusunannya melibatkan warga Madrasah dan pemangku kepentingan lainnya serta diimplementasikan secara konsisten dan efektif, akuntabel, dan transparan berdampak nyata pada pengembangan Madrasah. | F13: 4 | H13: =IF(G13="V",4,IF(G14="V",3,IF(G15="V",2,IF(G16="V",1,""))))
E14: Kepala Madrasah memimpin guru, tenaga kependidikan, dan siswa untuk mengembangkan ide-ide kreatif dan inovatif yang dituangkan dalam RKM/RKAM yang dalam penyusunannya melibatkan warga Madrasah dan pemangku kepentingan lainnya serta diimplementasikan secara konsisten dan efektif. | F14: 3
E15: Kepala Madrasah memimpin guru, tenaga kependidikan, dan siswa untuk mengembangkan ide-ide kreatif dan inovatif yang dituangkan dalam RKM/RKAM yang dalam penyusunannya melibatkan warga Madrasah dan pemangku kepentingan lainnya, namun tidak diimplementasikan secara konsisten dan efektif. | F15: 2
E16: Kepala Madrasah memimpin guru, tenaga kependidikan, dan siswa untuk mengembangkan ide-ide kreatif dan inovatif yang dituangkan dalam RKM/RKAM yang dalam penyusunannya tidak melibatkan warga Madrasah dan pemangku kepentingan lainnya. | F16: 1
A17: 26 | B17: Kepemimpinan Kepala Madrasah | C17: Madrasah membangun komunikasi dan interaksi antara warga Madrasah (siswa, guru, Kamad, tenaga kependidikan), orang tua, dan masyarakat untuk mewujudkan keharmonisan internal dan eksternal Madrasah | D17: Observasi, Dokumen, Wawancara | E17: Madrasah menunjukkan komunikasi dan interaksi antara siswa, guru dan warga Madrasah, orang tua dan masyarakat sekitar secara harmonis dan berdampak pada terciptanya budaya kerja sama yang kuat. | F17: 4 | H17: =IF(G17="V",4,IF(G18="V",3,IF(G19="V",2,IF(G20="V",1,""))))
E18: Madrasah menunjukkan komunikasi dan interaksi antara warga Madrasah, orang tua dan masyarakat sekitar secara harmonis. | F18: 3
E19: Madrasah menunjukkan komunikasi dan interaksi antara warga Madrasah, dan orang tua secara harmonis. | F19: 2
E20: Madrasah belum menunjukkan komunikasi dan interaksi antara warga Madrasah, dan orang tua secara harmonis. | F20: 1
A21: 27 | B21: Budaya Madrasah | C21: Madrasah melakukan pembiasaan; aman, tertib, bersih, indah, dan nyaman untuk menciptakan lingkungan Madrasah yang kondusif | D21: Observasi, Dokumen, Wawancara | E21: Madrasah menunjukkan suasana aman, tertib, bersih, indah, dan nyaman bagi seluruh warga Madrasah untuk menciptakan lingkungan Madrasah madrasah yang kondusif dan berdampak pada persepsi positif masyarakat terhadap Madrasah. | F21: 4 | H21: =IF(G21="V",4,IF(G22="V",3,IF(G23="V",2,IF(G24="V",1,""))))
E22: Madrasah menunjukkan suasana aman, tertib, bersih, indah, dan nyaman bagi seluruh warga Madrasah untuk menciptakan lingkungan Madrasah madrasah yang kondusif. | F22: 3
E23: Madrasah menerapkan pembiasaan secara konsisten hidup aman, tertib, bersih, indah, dan nyaman bagi seluruh warga Madrasah untuk menciptakan lingkungan Madrasah madrasah yang kondusif. | F23: 2
E24: Madrasah menerapkan pembiasaan hidup aman, tertib, bersih, indah, atau nyaman bagi seluruh warga Madrasah. | F24: 1
A25: 28 | B25: Pelibatan Masyarakat | C25: Madrasah melibatkan orang tua siswa dan masyarakat dari berbagai kalangan dalam perencanaan, pelaksanaan, dan pengawasan program, serta kegiatan Madrasah | D25: Dokumen, Wawancara | E25: Manajemen dan Komad merupakan partner setara, yang terlihat pada kepedulian dan pemahaman Komad terhadap kondisi, masalah dan tantangan yang sedang dihadapi Madrasah dan menjadikannya sebagai tantangan bersama. Pertemuan Komite dengan Manajemen Madrasah dapat terjadi sewaktu-waktu atas inisiatif salah satu pihak. Keterlibatan tokoh masyarakat dalam perencanaan, pelaksanaan dan pengawasan program-program Madrasah terjadi atas inisiatif Komite maupun Manajemen Madrasah serta berdampak pada persepsi positif masyarakat terhadap Madrasah. | F25: 4 | H25: =IF(G25="V",4,IF(G26="V",3,IF(G27="V",2,IF(G28="V",1,""))))
E26: Manajemen dan Komad merupakan partner setara, yang terlihat pada kepedulian dan pemahaman Komad terhadap kondisi, masalah dan tantangan yang sedang dihadapi Madrasah, dan menjadikannya sebagai tantangan bersama. Pertemuan Komite dengan Manajemen Madrasah dapat terjadi sewaktu-waktu atas inisiatif salah satu pihak. Keterlibatan tokoh masyarakat dalam perencanaan, pelaksanaan, dan pengawasan program-program Madrasah terjadi atas inisiatif Komite maupun Manajemen Madrasah. | F26: 3
E27: Manajemen Madrasah berinisiatif dan memfasilitasi perte-muan Komad sekali dalam setahun, menjelang awal tahun ajaran. Forum pertemuan Komad dimanfaatkan oleh Manajemen Madrasah untuk mendapat-kan dukungan para orang tua khususnya terkait dukungan finansial kepada Madrasah secara sukarela demi kemajuan Madrasah dan kepentingan anak didik secara keseluruhan. | F27: 2
E28: Manajemen Madrasah berinisiatif dalam memfasilitasi pertemuan Komad sekali dlm setahun, menjelang awal tahun ajaran. Keputusan pertemuan Komad cenderung berdasarkan ketokohan pengurus Komad. | F28: 1
A29: 29 | B29: Pengelolaan Kurikulum | C29: Madrasah mengembangkan, mengimplementasikan dan mengevaluasi pelaksanaan kurikulum secara sistematis, kreatif, inovatif, dan efektif | D29: Dokumen, Wawancara | E29: Madrasah mengembangkan KTSP dengan melibatkan para stake holder, mengimplementasikan dan mengevaluasi se-cara sistematis, kreatif, inovatif, dan efektif yang berkesi-nambungan, berdampak pada peningkatan prestasi siswa. | F29: 4 | H29: =IF(G29="V",4,IF(G30="V",3,IF(G31="V",2,IF(G32="V",1,""))))
E30: Madrasah mengembangkan KTSP dengan melibatkan para pemangku kepentingan, serta mengimplementasikan dan mengevaluasi secara sistematis, kreatif, inovatif, dan efektif yang berkesinambungan. | F30: 3
E31: Madrasah mengembangkan KTSP tanpa melakukan evaluasi secara periodik dan melibatkan para pemangku kepentingan secara terbatas. | F31: 2
E32: Madrasah memiliki dokumen KTSP, tetapi tidak dikembangkan melalui tahapan pengembangan yang sistematis/ prosedural. | F32: 1
A33: 30 | B33: Pengelolaan GTK | C33: Madrasah menerapkan pengelolaan GTK secara efektif, efisien dan akuntabel pada kegiatan rekrutmen, seleksi, penugasan, pengembangan kompetensi, penilaian kinerja, kompensasi, dan penghargaan/sanksi | D33: Dokumen, Wawancara | E33: Madrasah menerapkan secara konsisten pengelolaan GTK yang komprehensif, efektif, efisien, dan akuntabel pada kegiatan rekrutmen, seleksi, penugasan, pengembangan kompetensi, penilaian kinerja, dan pemberian penghargaan/sanksi yang berdampak terhadap persepsi positif pemangku kepentingan, iklim kerja yang kondusif, dan peningkatan kinerja. | F33: 4 | H33: =IF(G33="V",4,IF(G34="V",3,IF(G35="V",2,IF(G36="V",1,""))))
E34: Madrasah menerapkan secara konsisten pengelolaan GTK yang komprehensif, efektif, efisien, dan akuntabel pada kegiatan rekrutmen, seleksi, penugasan, pengembangan kompetensi, penilaian kinerja, dan pemberian penghargaan/sanksi yang berdampak terhadap iklim kerja yang kondusif, dan persepsi positif pemangku kepentingan. | F34: 3
E35: Madrasah menerapkan secara konsisten pengelolaan GTK yang komprehensif, efektif, efisien, dan akuntabel pada kegiatan rekrutmen, seleksi, penugasan, pengembangan kompetensi, penilaian kinerja, dan pemberian penghargaan/sanksi yang berdampak terhadap iklim kerja yang kondusif. | F35: 2
E36: Madrasah belum menerapkan secara konsisten pengelolaan GTK yang komprehensif, efektif, efisien, dan akuntabel. | F36: 1
A37: 31 | B37: Pengelolaan Sarpras | C37: Madrasah melaksanakan pengelolaan Sarpras dengan baik untuk mendukung proses pembelajaran yang berkualitas | D37: Observasi, Dokumen, Wawancara | E37: Madrasah mengelola Sarpras secara konsisten dan efisien dengan melibatkan semua warga Madrasah dan pemangku kepentingan lainnya dalam pelaksanaan prosedur penggunaan dan pemeliharaan yang hasilnya terlihat pada Sarpras yang berkondisi baik, bersih, rapi, aman, nyaman, dan mudah diakses sehingga berdampak positif terhadap proses pembelajaran yang efektif. | F37: 4 | H37: =IF(G37="V",4,IF(G38="V",3,IF(G39="V",2,IF(G40="V",1,""))))
E38: Madrasah mengelola Sarpras secara konsisten dan efisien dengan melibatkan semua warga Madrasah dalam pelaksanaan prosedur penggunaan dan pemeliharaan sehingga proses pembelajaran dapat berlangsung aman dan nyaman dengan Sarpras yang mudah diakses. | F38: 3
E39: Madrasah belum mengelola Sarpras secara konsisten dan efisien dalam pelaksanaan prosedur penggunaan dan pemeliharaan sarana dan prasarana. | F39: 2
E40: Madrasah belum mengelola Sarpras karena tidak memiliki sistem dan prosedur pengelolaan Sarpras. | F40: 1
A41: 32 | B41: Pengelolaan Pembiayaan | C41: Madrasah mengelola anggaran pendapatan dan belanja secara transparan dan akuntabel sesuai perencanaan | D41: Dokumen, Wawancara | E41: Madrasah menyusun perencanaan APBM berdasarkan EDM dengan melibatkan Komite Madrasah. Realisasi penggunaan anggaran dan belanja dilakukan berdasarkan perencanaan yang telah disusun. Laporan keuangan disusun secara periodik dengan prinsip transparan dan akuntabel berdasarkan peraturan yang berlaku dan disampaikan ke pihak yang berkepentingan baik di dalam maupun di luar Madrasah. Laporan akhir keuangan diaudit secara internal atau eksternal dengan hasil baik | F41: 4 | H41: =IF(G41="V",4,IF(G42="V",3,IF(G43="V",2,IF(G44="V",1,""))))
E42: Madrasah menyusun perencanaan program dan APBM berdasarkan EDM dengan melibatkan Komite Madrasah. Realisasi penggunaan anggaran dan belanja dilakukan berdasarkan perencanaan yang telah disusun. Laporan keuangan disusun secara transparan dan akuntabel berdasarkan peraturan yang berlaku dan disampaikan ke pihak yang berkepentingan baik di dalam maupun di luar Madrasah | F42: 3
E43: Madrasah menyusun perencanaan APBM dengan melibatkan Komite Madrasah. Laporan keuangan disusun dan disampaikan ke pihak pemberi dana dan kalangan internal Madrasah. | F43: 2
E44: Madrasah menyusun perencanaan APBM. Laporan keuangan disusun dan disampaikan ke pihak pemberi dana dan kalangan internal Madrasah | F44: 1
A45: 33 | B45: Pengelolaan Kesiswaan | C45: Madrasah menyelenggarakan pembinaan kegiatan kesiswa-an untuk mengembangkan minat dan bakat siswa | D45: Dokumen, Wawancara | E45: Madrasah menyelenggarakan kegiatan ekstrakurikuler dan mengikutsertakan siswa dalam berbagai kompetisi serta mendapatkan dukungan fasilitas dari Madrasah, orang tua dan masyarakat yang menghasilkan berbagai prestasi. | F45: 4 | H45: =IF(G45="V",4,IF(G46="V",3,IF(G47="V",2,IF(G48="V",1,""))))
E46: Madrasah menyelenggarakan kegiatan ekstrakurikuler, dan mengikutsertakan siswa dalam berbagai kompetisi serta mendapatkan dukungan fasilitas dari Madrasah yang menghasilkan berbagai prestasi. | F46: 3
E47: Madrasah menyelenggarakan kegiatan ekstrakurikuler dan mengikutsertakan siswa dalam berbagai kompetisi serta mendapatkan dukungan fasilitas dari Madrasah. | F47: 2
E48: Madrasah menyelenggarakan kegiatan ekstrakurikuler, tetapi tidak diikutsertakan dalam berbagai kompetisi. | F48: 1
A49: 34 | B49: Pelayanan BK | C49: Madrasah memberikan layanan BK siswa dalam bidang pribadi, sosial, akademik, pendidikan lanjut dan karier untuk mendukung pencapaian dan pengembangan prestasi | D49: Observasi, Dokumen, Wawancara | E49: Madrasah memberikan layanan BK dalam bidang pribadi, sosial, akademik, pendidikan lanjut dan/atau karir untuk mendukung pencapaian dan pengembangan prestasi secara berkelanjutan dengan dukungan SDM yang berkualitas. | F49: 4 | H49: =IF(G49="V",4,IF(G50="V",3,IF(G51="V",2,IF(G52="V",1,""))))
E50: Madrasah berusaha memberikan layanan BK dalam bidang pribadi, sosial, akademik, pendidikan lanjut dan/atau karier yang diselenggarakan secara berkelanjutan dengan dukungan SDM terbatas. | F50: 3
E51: Madrasah berusaha memberikan layanan BK namun belum meliputi semua aspek (bidang pribadi, sosial, akademik, pendidikan lanjut dan karir). Dukungan sumber daya belum sesuai dengan kebutuhan. | F51: 2
E52: Layanan/bimbingan dan konseling dalam bidang pribadi, sosial, akademik, pendidikan lanjut dan/atau karir siswa belum menjadi komitmen Madrasah serta tidak didukung oleh sumber daya sesuai bidang keahliannya. | F52: 1
A53: 35 | B53: Penjaminan Mutu Internal | C53: Madrasah melaksanakan Penjaminan Mutu Internal Madrasah setiap tahun terkait pencapaian SNP, yang meliputi kegiatan pelaksanaan EDM dan penyusunan RKAM yang merujuk pada rapor mutu | D53: Dokumen, Wawancara | E53: Madrasah menyusun RKAM dengan merujuk peta mutu dan hasil EDM, melakukan evaluasi pelaksanaan program dalam RKAM, menyusun rencana perbaikan RKAM tahun berikutnya, dan melakukan tindakan perbaikan secara berkelanjutan. | F53: 4 | H53: =IF(G53="V",4,IF(G54="V",3,IF(G55="V",2,IF(G56="V",1,""))))
E54: Madrasah menyusun RKAM dengan merujuk peta mutu dan hasil EDM, serta melakukan evaluasi pelaksanaan program dalam RKAM. | F54: 3
E55: Madrasah menyusun RKAM dengan merujuk rapor mutu dan hasil EDM. | F55: 2
E56: Madrasah menyusun RKAM tanpa memperhatikan rapor mutu dan hasil EDM. | F56: 1
A57: PEROLEHAN SKOR UNTUK KOMPONEN MANAJEMEN MADRASAH | H57: =SUM(H5:H56) -> 0

Sheet skoring bpr
A1: INSTRUMEN AKREDITASI SATUAN PENDIDIKAN (IASP) 2020 MADRASAH IBTIDAIYAH
A3: SKORING BUTIR PEMENUHAN RELATIF
A5: NO. BUTIR | B5: PERNYATAAN | C5: CAPAIAN KINERJA | D5: LEVEL | E5: OPSI | F5: SKOR | H5: Contreng dengan huruf V atau huruf v pada kolom opsi sesuai pilihan di antara empat alternatif level, sesuai dengan fakta yang ada
A6: 1 | B6: Kualifikasi akademik guru minimum sarjana (S1) atau diploma empat (D4) | C6: 90% - 100% guru berpendidikan S1/D4 | D6: 4 | F6: =IF(E6="V",4,IF(E7="V",3,IF(E8="V",2,IF(E9="V",1,""))))
C7: 80% - <90% guru berpendidikan S1/D4 | D7: 3
C8: 70% - <80% guru berpendidikan S1/D4 | D8: 2
C9: Kurang dari 70% guru berpendidikan S1/D4 | D9: 1
A10: 2 | B10: Guru yang memiliki sertifikat pendidik | C10: 85% - 100% memiliki sertifikat pendidik | D10: 4 | F10: =IF(E10="V",4,IF(E11="V",3,IF(E12="V",2,IF(E13="V",1,""))))
C11: 70% - <85% memiliki sertifikat pendidik | D11: 3
C12: 55% - <70% memiliki sertifikat pendidik | D12: 2
C13: Kurang dari 55 % memiliki sertifikat pendidik | D13: 1 | H13: WARNING! JANGAN GANGGU KOLOM F
A14: 3 | B14: Guru yang mengajar sesuai latar belakang pendidikan | C14: 85% - 100% mengajar sesuai latar pendidikannya | D14: 4 | F14: =IF(E14="V",4,IF(E15="V",3,IF(E16="V",2,IF(E17="V",1,""))))
C15: 70% - <85% mengajar sesuai latar pendidikannya | D15: 3
C16: 55% - <70% mengajar sesuai latar pendidikannya | D16: 2
C17: Kurang dari 55 % mengajar sesuai latar pendidikannya | D17: 1
A18: 4 | B18: Madrasah memiliki tenaga administrasi yang memenuhi syarat sesuai ketentuan | C18: Memiliki lebih dari seorang tenaga administrasi yang memiliki kualifikasi pendidikan SMA / sederajat dan ada di antaranya memiliki kualifikasi di atas SMA/sederajat | D18: 4 | F18: =IF(E18="V",4,IF(E19="V",3,IF(E20="V",2,IF(E21="V",1,""))))
C19: Memiliki lebih dari seorang tenaga administrasi yang memiliki kualifikasi pendidikan SMA/sederajat | D19: 3
C20: Memiliki seorang tenaga administrasi yang memiliki kualifikasi pendidikan SMA/sederajat | D20: 2
C21: Memiliki tenaga administrasi dengan kualifikasi pendidikan di bawah SMA/ sederajat atau tidak memiliki tenaga administrasi | D21: 1
A22: 5 | B22: Jumlah Rombongan Belajar | C22: Jumlah siswa per rombongan belajar maksimum 28 siswa | D22: 4 | F22: =IF(E22="V",4,IF(E23="V",3,IF(E24="V",2,IF(E25="V",1,""))))
C23: Jumlah siswa per rombongan belajar sebanyak 29-30 siswa | D23: 3
C24: Jumlah siswa per rombongan belajar sebanyak 31-32 siswa | D24: 2
C25: Jumlah siswa per rombongan melebihi 32 siswa | D25: 1
A26: 6 | B26: Bangunan Madrasah memiliki instalasi listrik dengan daya yang mencukupi kebutuhan | C26: Memiliki daya 1300 watt atau lebih | D26: 4 | F26: =IF(E26="V",4,IF(E27="V",3,IF(E28="V",2,IF(E29="V",1,""))))
C27: Memiliki daya 900 watt | D27: 3
C28: Memiliki daya 450 watt | D28: 2
C29: Tidak ada jaringan listrik | D29: 1
A30: 7 | B30: Ruang Penunjang yang cukup | C30: Memiliki ruang Kamad, Ruang Guru, Ruang UKS dan Ruang BK | D30: 4 | F30: =IF(E30="V",4,IF(E31="V",3,IF(E32="V",2,IF(E33="V",1,""))))
C31: Memiliki ruang Kamad dan Ruang Guru, dan salah satu dari Ruang UKS atau Ruang BK | D31: 3
C32: Memiliki ruang Kamad dan Ruang Guru, tidak memiliki Ruang UKS dan Ruang BK | D32: 2
C33: Hanya memiliki ruang Kamad atau Ruang Guru atau tidak memiliki keduanya | D33: 1
A34: 8 | B34: Madrasah memiliki WC/jamban | C34: Minimum terdapat 1 (satu) unit jamban untuk kurang dari 60 siswa pria, 1 (satu) unit jamban untuk kurang dari 50 siswa wanita | D34: 4 | F34: =IF(E34="V",4,IF(E35="V",3,IF(E36="V",2,IF(E37="V",1,""))))
C35: Minimum terdapat 1 (satu) unit jamban untuk setiap 60 siswa pria, 1 (satu) unit jamban untuk setiap 50 siswa wanita | D35: 3
C36: Minimum terdapat 1 (satu) unit jamban untuk setiap 60 siswa | D36: 2
C37: Terdapat 1 (satu) jamban | D37: 1
A38: JUMLAH SKOR | F38: =SUM(F6:F37) -> 0
A39: JUMLAH SKOR MAKSIMUM | F39: 32
A40: SKOR INDIKATOR PEMENUHAN RELATIF (SKOR IPR) | F40: =(F38/F39)*100 -> 0

Sheet skoring butir inti
A1: INSTRUMEN AKREDITASI SATUAN PENDIDIKAN (IASP) 2020 MADRASAH IBTIDAIYAH
A3: SKORING BUTIR INTI
A5: NO. | B5: KOMPONEN | C5: PEROLEHAN SKOR KOMPONEN | D5: SKOR MAKS | E5: BOBOT KOMPONEN | F5: SKOR KOMPONEN
A6: 1 | B6: Mutu Lulusan | C6: ='1. mutu lulusan'!H49 -> 0 | D6: 44 | E6: 35 | F6: =(C6/D6)*E6 -> 0
A7: 2 | B7: Proses Pembelajaran | C7: ='2. proses pembelajaran'!H33 -> 0 | D7: 28 | E7: 29 | F7: =(C7/D7)*E7 -> 0
A8: 3 | B8: Mutu Guru | C8: ='3. mutu guru'!H25 -> 0 | D8: 20 | E8: 18 | F8: =(C8/D8)*E8 -> 0
A9: 4 | B9: Manajemen Madrasah | C9: ='4. manajemen'!H57 -> 0 | D9: 52 | E9: 18 | F9: =(C9/D9)*E9 -> 0
A10: SKOR TOTAL KOMPONEN (STK) | F10: =SUM(F6:F9) -> 0
A13: NILAI AKHIR AKREDITASI (NA)
A15: 1. Skor Indikator Pemenuhan Relatif | E15: = | F15: ='skoring bpr'!F40 -> 0
A16: 2. Skor Total Komponen | E16: = | F16: =F10 -> 0
A17: NILAI AKHIR (NA) | E17: = | F17: =(3*F15+17*F16)/20 -> 0
A18: PERINGKAT | E18: = | F18: =IF(F17>=91,"A",IF(F17>=81,"B",IF(F17>=71,"C","TT"))) -> TT
A19: PREDIKAT | E19: = | F19: =IF(F18="A","UNGGUL",IF(F18="B","BAIK",IF(F18="C","CUKUP","TIDAK TERAKREDITASI"))) -> TIDAK TERAKREDITASI

Sheet Sheet2

Sheet Sheet3
